BEGIN:VCALENDAR
VERSION:2.0
PRODID:SchoolNow
CALSCALE:GREGORIAN
BEGIN:VEVENT
UID:b72962f6-f876-11f0-be10-0affca580423
DTSTAMP:20260421T211106Z
SUMMARY:Girls Varsity Volleyball @ Beaver River
LOCATION:Beaver River E S
URL;VALUE=URI:https://www.1000islandsschools.org/departments/athletics/cale
 ndar/8839874/girls-varsity-volleyball-beaver-river
DTSTART:20260130T003000Z
DTEND:20260130T013000Z
END:VEVENT
END:VCALENDAR
