BEGIN:VCALENDAR
VERSION:2.0
PRODID:SchoolNow
CALSCALE:GREGORIAN
BEGIN:VEVENT
UID:94eb5a02-fb0d-11f0-946c-0a58a9feac02
DTSTAMP:20260421T211106Z
SUMMARY:POSTPONED: Girls (Islanders) Varsity Ice Hockey v. Clinton (Combine
 d)
LOCATION:Alexandria Bay Municipal Ice Arena
URL;VALUE=URI:https://www.1000islandsschools.org/departments/athletics/cale
 ndar/8844174/postponed-girls-islanders-varsity-ice-hockey-v-clinton-combin
 ed
DTSTART:20260126T233000Z
DTEND:20260127T003000Z
END:VEVENT
END:VCALENDAR
