BEGIN:VCALENDAR
VERSION:2.0
PRODID:SchoolNow
CALSCALE:GREGORIAN
BEGIN:VEVENT
UID:2d07783a-0305-11f1-9d6c-0e3a79c554f7
DTSTAMP:20260421T211106Z
SUMMARY:Boys Varsity Basketball @ Beaver River
LOCATION:Beaver River H S
URL;VALUE=URI:https://www.1000islandsschools.org/departments/athletics/cale
 ndar/8850261/boys-varsity-basketball-beaver-river
DTSTART:20260210T230000Z
DTEND:20260211T000000Z
END:VEVENT
END:VCALENDAR
