BEGIN:VCALENDAR
VERSION:2.0
PRODID:SchoolNow
CALSCALE:GREGORIAN
BEGIN:VEVENT
UID:27e22f00-039e-11f1-bac0-0affc161d76f
DTSTAMP:20260421T211106Z
SUMMARY:Girls Varsity Basketball v. Immaculate Heart Central\, Watertown
LOCATION:Thousand Islands High School Gym
URL;VALUE=URI:https://www.1000islandsschools.org/departments/athletics/cale
 ndar/8850814/girls-varsity-basketball-v-immaculate-heart-central-watertown
DTSTART:20260211T230000Z
DTEND:20260212T000000Z
END:VEVENT
END:VCALENDAR
