BEGIN:VCALENDAR
VERSION:2.0
PRODID:SchoolNow
CALSCALE:GREGORIAN
BEGIN:VEVENT
UID:f07f12ac-07cc-11f1-9da0-0a58a9feac02
DTSTAMP:20260421T211106Z
SUMMARY:Girls Varsity Basketball v. Beaver River
LOCATION:JCC
URL;VALUE=URI:https://www.1000islandsschools.org/departments/athletics/cale
 ndar/8853784/girls-varsity-basketball-v-beaver-river
DTSTART:20260214T183000Z
DTEND:20260214T193000Z
END:VEVENT
END:VCALENDAR
