BEGIN:VCALENDAR
VERSION:2.0
PRODID:SchoolNow
CALSCALE:GREGORIAN
BEGIN:VEVENT
UID:ab020a1c-0cfa-11f1-97cc-0a58a9feac02
DTSTAMP:20260421T211106Z
SUMMARY:Boys Varsity Basketball @ Sandy Creek
LOCATION:JCC - Jefferson Community College
URL;VALUE=URI:https://www.1000islandsschools.org/departments/athletics/cale
 ndar/8859196/boys-varsity-basketball-sandy-creek
DTSTART:20260214T010000Z
DTEND:20260214T020000Z
END:VEVENT
END:VCALENDAR
