BEGIN:VCALENDAR
VERSION:2.0
PRODID:SchoolNow
CALSCALE:GREGORIAN
BEGIN:VEVENT
UID:ab020db4-0cfa-11f1-a6ff-0a58a9feac02
DTSTAMP:20260421T211106Z
SUMMARY:Boys Varsity Basketball @ Beaver River
LOCATION:Beaver River H S
URL;VALUE=URI:https://www.1000islandsschools.org/departments/athletics/cale
 ndar/8859197/boys-varsity-basketball-beaver-river
DTSTART:20260219T233000Z
DTEND:20260220T003000Z
END:VEVENT
END:VCALENDAR
