BEGIN:VCALENDAR
VERSION:2.0
PRODID:SchoolNow
CALSCALE:GREGORIAN
BEGIN:VEVENT
UID:ab020ef4-0cfa-11f1-932e-0a58a9feac02
DTSTAMP:20260421T211106Z
SUMMARY:Girls Varsity Basketball @ Port Byron
LOCATION:Lehn Gym
URL;VALUE=URI:https://www.1000islandsschools.org/departments/athletics/cale
 ndar/8859198/girls-varsity-basketball-port-byron
DTSTART:20260220T230000Z
DTEND:20260221T000000Z
END:VEVENT
END:VCALENDAR
