BEGIN:VCALENDAR
VERSION:2.0
PRODID:SchoolNow
CALSCALE:GREGORIAN
BEGIN:VEVENT
UID:15d2d918-18bb-11f1-9cba-0218e53ea361
DTSTAMP:20260421T211106Z
SUMMARY:Boys Varsity Golf LaFargeville\, TBD @ Sandy Creek
LOCATION:Elms Golf Course
URL;VALUE=URI:https://www.1000islandsschools.org/departments/athletics/cale
 ndar/8893675/boys-varsity-golf-lafargeville-tbd-sandy-creek
DTSTART:20260420T204500Z
DTEND:20260420T214500Z
END:VEVENT
END:VCALENDAR
