BEGIN:VCALENDAR
VERSION:2.0
PRODID:SchoolNow
CALSCALE:GREGORIAN
BEGIN:VEVENT
UID:15d2dc88-18bb-11f1-ac42-0218e53ea361
DTSTAMP:20260421T211106Z
SUMMARY:Boys Varsity Golf Sandy Creek @ LaFargeville
LOCATION:Lafargeville School
URL;VALUE=URI:https://www.1000islandsschools.org/departments/athletics/cale
 ndar/8893676/boys-varsity-golf-sandy-creek-lafargeville
DTSTART:20260427T040000Z
DTEND:20260427T050000Z
END:VEVENT
END:VCALENDAR
