BEGIN:VCALENDAR
VERSION:2.0
PRODID:SchoolNow
CALSCALE:GREGORIAN
BEGIN:VEVENT
UID:06db78a2-19ba-11f1-be52-0ee43f609981
DTSTAMP:20260421T211106Z
SUMMARY:CANCELLED: Boys Varsity Golf @ South Lewis
LOCATION:Brantingham Golf Club
URL;VALUE=URI:https://www.1000islandsschools.org/departments/athletics/cale
 ndar/8897311/cancelled-boys-varsity-golf-south-lewis
DTSTART:20260421T203000Z
DTEND:20260421T213000Z
END:VEVENT
END:VCALENDAR
