BEGIN:VCALENDAR
VERSION:2.0
PRODID:SchoolNow
CALSCALE:GREGORIAN
BEGIN:VEVENT
UID:ea4dd116-1bea-11f1-8197-0ea4236332d5
DTSTAMP:20260421T211106Z
SUMMARY:Boys Varsity Lacrosse @ Ogdensburg
LOCATION:Ogdensburg Free Academy
URL;VALUE=URI:https://www.1000islandsschools.org/departments/athletics/cale
 ndar/8904390/boys-varsity-lacrosse-ogdensburg
DTSTART:20260513T220000Z
DTEND:20260513T230000Z
END:VEVENT
END:VCALENDAR
