BEGIN:VCALENDAR
VERSION:2.0
PRODID:SchoolNow
CALSCALE:GREGORIAN
BEGIN:VEVENT
UID:ea4dd45e-1bea-11f1-92d6-0ea4236332d5
DTSTAMP:20260421T211106Z
SUMMARY:Boys Varsity Lacrosse @ Malone
URL;VALUE=URI:https://www.1000islandsschools.org/departments/athletics/cale
 ndar/8904391/boys-varsity-lacrosse-malone
DTSTART:20260415T220000Z
DTEND:20260415T230000Z
END:VEVENT
END:VCALENDAR
