BEGIN:VCALENDAR
VERSION:2.0
PRODID:SchoolNow
CALSCALE:GREGORIAN
BEGIN:VEVENT
UID:9d8ee03c-21b1-11f1-8349-0a58a9feac02
DTSTAMP:20260421T211106Z
SUMMARY:Boys Varsity Lacrosse @ Whitesboro
LOCATION:Ed Wadas Complex High School
URL;VALUE=URI:https://www.1000islandsschools.org/departments/athletics/cale
 ndar/8923645/boys-varsity-lacrosse-whitesboro
DTSTART:20260328T160000Z
DTEND:20260328T170000Z
END:VEVENT
END:VCALENDAR
