BEGIN:VCALENDAR
VERSION:2.0
PRODID:SchoolNow
CALSCALE:GREGORIAN
BEGIN:VEVENT
UID:930cfe68-22e3-11f1-bcf3-023df47050e7
DTSTAMP:20260421T211106Z
SUMMARY:Boys Varsity Golf v. South Lewis
LOCATION:C-Way Golf Course
URL;VALUE=URI:https://www.1000islandsschools.org/departments/athletics/cale
 ndar/8928127/boys-varsity-golf-v-south-lewis
DTSTART:20260507T203000Z
DTEND:20260507T213000Z
END:VEVENT
END:VCALENDAR
