BEGIN:VCALENDAR
VERSION:2.0
PRODID:SchoolNow
CALSCALE:GREGORIAN
BEGIN:VEVENT
UID:581e0d00-2712-11f1-8be6-0a58a9feac02
DTSTAMP:20260421T211106Z
SUMMARY:Boys 7th/8th Baseball v. Sackets Harbor
LOCATION:Cape Vincent Elementary - TI
URL;VALUE=URI:https://www.1000islandsschools.org/departments/athletics/cale
 ndar/8940342/boys-7th-8th-baseball-v-sackets-harbor
DTSTART:20260518T203000Z
DTEND:20260518T213000Z
END:VEVENT
END:VCALENDAR
