BEGIN:VCALENDAR
VERSION:2.0
PRODID:SchoolNow
CALSCALE:GREGORIAN
BEGIN:VEVENT
UID:581e105c-2712-11f1-b31d-0a58a9feac02
DTSTAMP:20260421T211106Z
SUMMARY:Girls 7th/8th Softball @ Sackets Harbor
LOCATION:SHCS Varsity Softball
URL;VALUE=URI:https://www.1000islandsschools.org/departments/athletics/cale
 ndar/8940343/girls-7th-8th-softball-sackets-harbor
DTSTART:20260521T203000Z
DTEND:20260521T213000Z
END:VEVENT
END:VCALENDAR
