BEGIN:VCALENDAR
VERSION:2.0
PRODID:SchoolNow
CALSCALE:GREGORIAN
BEGIN:VEVENT
UID:52231b18-27ab-11f1-bcdf-0a58a9feac02
DTSTAMP:20260421T211106Z
SUMMARY:Girls 7th/8th Softball @ Beaver River
LOCATION:Beaver River H S
URL;VALUE=URI:https://www.1000islandsschools.org/departments/athletics/cale
 ndar/8942309/girls-7th-8th-softball-beaver-river
DTSTART:20260528T210000Z
DTEND:20260528T220000Z
END:VEVENT
END:VCALENDAR
