BEGIN:VCALENDAR
VERSION:2.0
PRODID:SchoolNow
CALSCALE:GREGORIAN
BEGIN:VEVENT
UID:52231e7e-27ab-11f1-8f40-0a58a9feac02
DTSTAMP:20260421T211106Z
SUMMARY:Girls 7th/8th Softball v. Copenhagen
LOCATION:Cape Vincent Elementary - Softball Field (James St.)
URL;VALUE=URI:https://www.1000islandsschools.org/departments/athletics/cale
 ndar/8942310/girls-7th-8th-softball-v-copenhagen
DTSTART:20260430T210000Z
DTEND:20260430T220000Z
END:VEVENT
END:VCALENDAR
