BEGIN:VCALENDAR
VERSION:2.0
PRODID:SchoolNow
CALSCALE:GREGORIAN
BEGIN:VEVENT
UID:52231fc8-27ab-11f1-a6a3-0a58a9feac02
DTSTAMP:20260421T211106Z
SUMMARY:Boys 7th/8th Baseball @ Copenhagen
LOCATION:Copenhagen Turf Field
URL;VALUE=URI:https://www.1000islandsschools.org/departments/athletics/cale
 ndar/8942311/boys-7th-8th-baseball-copenhagen
DTSTART:20260429T210000Z
DTEND:20260429T220000Z
END:VEVENT
END:VCALENDAR
