BEGIN:VCALENDAR
VERSION:2.0
PRODID:SchoolNow
CALSCALE:GREGORIAN
BEGIN:VEVENT
UID:522320e0-27ab-11f1-b825-0a58a9feac02
DTSTAMP:20260421T211106Z
SUMMARY:Boys 7th/8th Baseball v. Belleville Henderson
LOCATION:Cape Vincent Elementary - TI
URL;VALUE=URI:https://www.1000islandsschools.org/departments/athletics/cale
 ndar/8942312/boys-7th-8th-baseball-v-belleville-henderson
DTSTART:20260507T210000Z
DTEND:20260507T220000Z
END:VEVENT
END:VCALENDAR
