BEGIN:VCALENDAR
VERSION:2.0
PRODID:SchoolNow
CALSCALE:GREGORIAN
BEGIN:VEVENT
UID:522321da-27ab-11f1-b435-0a58a9feac02
DTSTAMP:20260421T211106Z
SUMMARY:Boys 7th/8th Lacrosse v. Carthage
LOCATION:Thousand Islands High School
URL;VALUE=URI:https://www.1000islandsschools.org/departments/athletics/cale
 ndar/8942313/boys-7th-8th-lacrosse-v-carthage
DTSTART:20260507T203000Z
DTEND:20260507T213000Z
END:VEVENT
END:VCALENDAR
