BEGIN:VCALENDAR
VERSION:2.0
PRODID:SchoolNow
CALSCALE:GREGORIAN
BEGIN:VEVENT
UID:522322de-27ab-11f1-984d-0a58a9feac02
DTSTAMP:20260421T211106Z
SUMMARY:Boys 7th/8th Lacrosse @ Carthage
LOCATION:Watertown Fairgrounds
URL;VALUE=URI:https://www.1000islandsschools.org/departments/athletics/cale
 ndar/8942314/boys-7th-8th-lacrosse-carthage
DTSTART:20260605T203000Z
DTEND:20260605T223000Z
END:VEVENT
END:VCALENDAR
