BEGIN:VCALENDAR
VERSION:2.0
PRODID:SchoolNow
CALSCALE:GREGORIAN
BEGIN:VEVENT
UID:3dcb3400-2910-11f1-947d-0affdc907f8f
DTSTAMP:20260421T211106Z
SUMMARY:Boys 7th/8th Lacrosse @ South Jefferson
LOCATION:SJ HS/MS - Stadium Turf Field
URL;VALUE=URI:https://www.1000islandsschools.org/departments/athletics/cale
 ndar/8946722/boys-7th-8th-lacrosse-south-jefferson
DTSTART:20260527T203000Z
DTEND:20260527T213000Z
END:VEVENT
END:VCALENDAR
