BEGIN:VCALENDAR
VERSION:2.0
PRODID:SchoolNow
CALSCALE:GREGORIAN
BEGIN:VEVENT
UID:3bb8e9ae-2943-11f1-b155-02f2b6ecedaf
DTSTAMP:20260421T211106Z
SUMMARY:Girls 7th/8th Softball v. General Brown
LOCATION:Cape Vincent Elementary - Softball Field (James St.)
URL;VALUE=URI:https://www.1000islandsschools.org/departments/athletics/cale
 ndar/8947363/girls-7th-8th-softball-v-general-brown
DTSTART:20260428T203000Z
DTEND:20260428T213000Z
END:VEVENT
END:VCALENDAR
