BEGIN:VCALENDAR
VERSION:2.0
PRODID:SchoolNow
CALSCALE:GREGORIAN
BEGIN:VEVENT
UID:3bb8eabc-2943-11f1-8c78-02f2b6ecedaf
DTSTAMP:20260421T211106Z
SUMMARY:Girls 7th/8th Softball @ General Brown
LOCATION:Dexter Elem Softball Field
URL;VALUE=URI:https://www.1000islandsschools.org/departments/athletics/cale
 ndar/8947364/girls-7th-8th-softball-general-brown
DTSTART:20260505T210000Z
DTEND:20260505T220000Z
END:VEVENT
END:VCALENDAR
