BEGIN:VCALENDAR
VERSION:2.0
PRODID:SchoolNow
CALSCALE:GREGORIAN
BEGIN:VEVENT
UID:3bb8ec74-2943-11f1-b195-02f2b6ecedaf
DTSTAMP:20260421T211106Z
SUMMARY:Boys 7th/8th Baseball @ LaFargeville
LOCATION:Lafargeville School
URL;VALUE=URI:https://www.1000islandsschools.org/departments/athletics/cale
 ndar/8947365/boys-7th-8th-baseball-lafargeville
DTSTART:20260526T203000Z
DTEND:20260526T213000Z
END:VEVENT
END:VCALENDAR
