BEGIN:VCALENDAR
VERSION:2.0
PRODID:SchoolNow
CALSCALE:GREGORIAN
BEGIN:VEVENT
UID:3bb8ef62-2943-11f1-a96f-02f2b6ecedaf
DTSTAMP:20260421T211106Z
SUMMARY:Boys 7th/8th Lacrosse @ Lowville
LOCATION:Lewis County Fairgrounds
URL;VALUE=URI:https://www.1000islandsschools.org/departments/athletics/cale
 ndar/8947368/boys-7th-8th-lacrosse-lowville
DTSTART:20260423T210000Z
DTEND:20260423T220000Z
END:VEVENT
END:VCALENDAR
