BEGIN:VCALENDAR
VERSION:2.0
PRODID:SchoolNow
CALSCALE:GREGORIAN
BEGIN:VEVENT
UID:3bb8f052-2943-11f1-9711-02f2b6ecedaf
DTSTAMP:20260421T211106Z
SUMMARY:Boys 7th/8th Lacrosse v. Lowville
LOCATION:Thousand Islands High School
URL;VALUE=URI:https://www.1000islandsschools.org/departments/athletics/cale
 ndar/8947369/boys-7th-8th-lacrosse-v-lowville
DTSTART:20260529T210000Z
DTEND:20260529T220000Z
END:VEVENT
END:VCALENDAR
