BEGIN:VCALENDAR
VERSION:2.0
PRODID:SchoolNow
CALSCALE:GREGORIAN
BEGIN:VEVENT
UID:3bb8f318-2943-11f1-96a8-02f2b6ecedaf
DTSTAMP:20260421T211106Z
SUMMARY:Boys 7th/8th Lacrosse v. Indian River
LOCATION:Thousand Islands High School
URL;VALUE=URI:https://www.1000islandsschools.org/departments/athletics/cale
 ndar/8947372/boys-7th-8th-lacrosse-v-indian-river
DTSTART:20260514T203000Z
DTEND:20260514T213000Z
END:VEVENT
END:VCALENDAR
