BEGIN:VCALENDAR
VERSION:2.0
PRODID:SchoolNow
CALSCALE:GREGORIAN
BEGIN:VEVENT
UID:3bb8f3fe-2943-11f1-bac8-02f2b6ecedaf
DTSTAMP:20260421T211106Z
SUMMARY:Boys 7th/8th Lacrosse @ General Brown
LOCATION:GBHS Side Game Field
URL;VALUE=URI:https://www.1000islandsschools.org/departments/athletics/cale
 ndar/8947373/boys-7th-8th-lacrosse-general-brown
DTSTART:20260520T203000Z
DTEND:20260520T213000Z
END:VEVENT
END:VCALENDAR
