BEGIN:VCALENDAR
VERSION:2.0
PRODID:SchoolNow
CALSCALE:GREGORIAN
BEGIN:VEVENT
UID:3b9e0174-2976-11f1-9549-02ad6d57bcd3
DTSTAMP:20260421T211106Z
SUMMARY:Girls 7th/8th Softball @ Belleville Henderson
LOCATION:Belleville Henderson Central School Modified Softball
URL;VALUE=URI:https://www.1000islandsschools.org/departments/athletics/cale
 ndar/8948252/girls-7th-8th-softball-belleville-henderson
DTSTART:20260507T210000Z
DTEND:20260507T220000Z
END:VEVENT
END:VCALENDAR
