BEGIN:VCALENDAR
VERSION:2.0
PRODID:SchoolNow
CALSCALE:GREGORIAN
BEGIN:VEVENT
UID:3b9e0656-2976-11f1-948d-02ad6d57bcd3
DTSTAMP:20260421T211106Z
SUMMARY:Boys 7th/8th Baseball v. Alexandria
LOCATION:Cape Vincent Elementary - TI
URL;VALUE=URI:https://www.1000islandsschools.org/departments/athletics/cale
 ndar/8948253/boys-7th-8th-baseball-v-alexandria
DTSTART:20260521T203000Z
DTEND:20260521T213000Z
END:VEVENT
END:VCALENDAR
