BEGIN:VCALENDAR
VERSION:2.0
PRODID:SchoolNow
CALSCALE:GREGORIAN
BEGIN:VEVENT
UID:3b9e0796-2976-11f1-8936-02ad6d57bcd3
DTSTAMP:20260421T211106Z
SUMMARY:Boys 7th/8th Baseball @ Sandy Creek
LOCATION:Sandy Creek MS/HS
URL;VALUE=URI:https://www.1000islandsschools.org/departments/athletics/cale
 ndar/8948254/boys-7th-8th-baseball-sandy-creek
DTSTART:20260601T203000Z
DTEND:20260601T213000Z
END:VEVENT
END:VCALENDAR
