BEGIN:VCALENDAR
VERSION:2.0
PRODID:SchoolNow
CALSCALE:GREGORIAN
BEGIN:VEVENT
UID:3b9e08a4-2976-11f1-9c0b-02ad6d57bcd3
DTSTAMP:20260421T211106Z
SUMMARY:Boys 7th/8th Baseball @ Lyme
LOCATION:Lyme School
URL;VALUE=URI:https://www.1000islandsschools.org/departments/athletics/cale
 ndar/8948255/boys-7th-8th-baseball-lyme
DTSTART:20260516T150000Z
DTEND:20260516T160000Z
END:VEVENT
END:VCALENDAR
