BEGIN:VCALENDAR
VERSION:2.0
PRODID:SchoolNow
CALSCALE:GREGORIAN
BEGIN:VEVENT
UID:3b9e099e-2976-11f1-bb75-02ad6d57bcd3
DTSTAMP:20260421T211106Z
SUMMARY:Girls 7th/8th Softball v. Lyme
LOCATION:Cape Vincent Elementary - Softball Field (James St.)
URL;VALUE=URI:https://www.1000islandsschools.org/departments/athletics/cale
 ndar/8948256/girls-7th-8th-softball-v-lyme
DTSTART:20260513T210000Z
DTEND:20260513T220000Z
END:VEVENT
END:VCALENDAR
