BEGIN:VCALENDAR
VERSION:2.0
PRODID:SchoolNow
CALSCALE:GREGORIAN
BEGIN:VEVENT
UID:3b9e0a98-2976-11f1-858b-02ad6d57bcd3
DTSTAMP:20260421T211106Z
SUMMARY:Girls 7th/8th Softball @ Alexandria
LOCATION:Alexandria School
URL;VALUE=URI:https://www.1000islandsschools.org/departments/athletics/cale
 ndar/8948257/girls-7th-8th-softball-alexandria
DTSTART:20260527T203000Z
DTEND:20260527T213000Z
END:VEVENT
END:VCALENDAR
