BEGIN:VCALENDAR
VERSION:2.0
PRODID:SchoolNow
CALSCALE:GREGORIAN
BEGIN:VEVENT
UID:00c90640-2e0b-11f1-920b-0efed01a4e39
DTSTAMP:20260421T211106Z
SUMMARY:Girls 7th/8th Softball v. Sandy Creek
LOCATION:Cape Vincent Elementary - Softball Field (James St.)
URL;VALUE=URI:https://www.1000islandsschools.org/departments/athletics/cale
 ndar/8963681/girls-7th-8th-softball-v-sandy-creek
DTSTART:20260601T210000Z
DTEND:20260601T220000Z
END:VEVENT
END:VCALENDAR
