BEGIN:VCALENDAR
VERSION:2.0
PRODID:SchoolNow
CALSCALE:GREGORIAN
BEGIN:VEVENT
UID:bf69b558-3a96-11f1-bfb7-0a58a9feac02
DTSTAMP:20260421T211106Z
SUMMARY:Boys 7th/8th Lacrosse @ Watertown
LOCATION:Watertown Wiley Intermediate School Field #1
URL;VALUE=URI:https://www.1000islandsschools.org/departments/athletics/cale
 ndar/9001061/boys-7th-8th-lacrosse-watertown
DTSTART:20260501T203000Z
DTEND:20260501T213000Z
END:VEVENT
END:VCALENDAR
